BEGIN:VCALENDAR
VERSION:2.0
CALSCALE:GREGORIAN
PRODID:-//Diputació de Barcelona//DibaCMS//EN
BEGIN:VEVENT
UID:8920
DTSTAMP:20260420T153430
DTSTART:20191105T161000
DTEND:20201104T000000
SUMMARY:El trànsit del planeta Mercuri, des de Sant Esteve en directe
LOCATION:
METHOD:PUBLISH
X-WR-CALNAME:sesrovires@diba.cat
X-WR-TIMEZONE:Europe/Madrid
DESCRIPTION:Dilluns 11 de novembre el planeta Mercuri passarà per davant del sol, en alineació perfecta des de la terra. Amb l’objectiu de poder seguir aquest fenomen en directe, Planetari Fora D’Òrbita, en col·laboració amb l’Estudi Tinta i Vi i el suport de l’Ajuntament i RTV10, organitzen una activitat d’observació oberta a tothom, a més de la seva emissió en directe.

URI:https://www.sesrovires.cat/actualitat/noticies/el-transit-del-planeta-mercuri-des-de-sant-esteve-en-directe.html
CLASS:PUBLIC
END:VEVENT
END:VCALENDAR
