BEGIN:VCALENDAR
VERSION:2.0
CALSCALE:GREGORIAN
PRODID:-//Diputació de Barcelona//DibaCMS//EN
BEGIN:VEVENT
UID:8922
DTSTAMP:20260423T104114
DTSTART:20191109T163000
DTEND:20191109T163000
SUMMARY:TALLER DE MÚSICA PER A INFANTS DE O A 3 ANYS
LOCATION:C/ de Dr. Pau Costas, 49 08635 Sant Esteve Sesrovires
METHOD:PUBLISH
X-WR-CALNAME:sesrovires@diba.cat
X-WR-TIMEZONE:Europe/Madrid
DESCRIPTION:A càrrec de Berta Benedicto

Organitzat pel Col·lectiu Ludum

URI:https://www.sesrovires.cat/actualitat/agenda-cultural/taller-de-musica-per-a-infants-de-o-a-3-anys.html
CLASS:PUBLIC
END:VEVENT
END:VCALENDAR
