BEGIN:VCALENDAR
VERSION:2.0
CALSCALE:GREGORIAN
PRODID:-//Diputació de Barcelona//DibaCMS//EN
BEGIN:VEVENT
UID:8924
DTSTAMP:20260421T162746
DTSTART:20191110T104500
DTEND:20201109T000000
SUMMARY:5.793 sesrovirencs i sesrovirenques cridats a urnes 
LOCATION:
METHOD:PUBLISH
X-WR-CALNAME:sesrovires@diba.cat
X-WR-TIMEZONE:Europe/Madrid
DESCRIPTION:En la jornada electoral d'avui de les Generals estan cridats a les urnes 5.793 sesrovirencs i sesrovirenques. Poden exercir el seu dret a vot en els 5 col·legis electorals habilitats: 3.884 electors ho faran al centre urbà, al Casino, a l’Escola La Roureda i al Casal de la gent gran; i 1.909 podran votar als casals socials dels barris de Vallserrat i Ca n’Amat.

URI:https://www.sesrovires.cat/actualitat/noticies/5793-sesrovirencs-i-sesrovirenques-cridats-a-urnes-.html
CLASS:PUBLIC
END:VEVENT
END:VCALENDAR
