BEGIN:VCALENDAR
VERSION:2.0
CALSCALE:GREGORIAN
PRODID:-//Diputació de Barcelona//DibaCMS//EN
BEGIN:VEVENT
UID:8955
DTSTAMP:20260420T102850
DTSTART:20191114T113000
DTEND:20201113T000000
SUMMARY:Oferta laboral per a conserge al Casal de la gent gran
LOCATION:
METHOD:PUBLISH
X-WR-CALNAME:sesrovires@diba.cat
X-WR-TIMEZONE:Europe/Madrid
DESCRIPTION:L’Ajuntament ha obert la convocatòria per cobrir el lloc de treball de conserge al Casal de la gent gran per substitució per baixa de la persona titular. S’ofereix incorporació immediata i contracte d’interinitat.

URI:https://www.sesrovires.cat/actualitat/noticies/oferta-laboral-per-a-conserge-al-casal-de-la-gent-gran.html
CLASS:PUBLIC
END:VEVENT
END:VCALENDAR
