BEGIN:VCALENDAR
VERSION:2.0
CALSCALE:GREGORIAN
PRODID:-//Diputació de Barcelona//DibaCMS//EN
BEGIN:VEVENT
UID:8956
DTSTAMP:20260421T115735
DTSTART:20191118T080000
DTEND:20201114T000000
SUMMARY:El conte de la rateta presumida arriba diumenge al teatre El Casino
LOCATION:
METHOD:PUBLISH
X-WR-CALNAME:sesrovires@diba.cat
X-WR-TIMEZONE:Europe/Madrid
DESCRIPTION:El Cicle d’Espectacles familiars Bambolina ofereix diumenge la possibilitat de gaudir amb el conte de la rateta presumida al casal cultural El Casino. En aquesta ocasió, la companyia El Replà presenta una versió innovadora de la narració tradicional. La representació començarà a les 12.00h.

URI:https://www.sesrovires.cat/actualitat/noticies/el-conte-de-la-rateta-presumida-arriba-diumenge-al-teatre-el-casino.html
CLASS:PUBLIC
END:VEVENT
END:VCALENDAR
