BEGIN:VCALENDAR
VERSION:2.0
CALSCALE:GREGORIAN
PRODID:-//Diputació de Barcelona//DibaCMS//EN
BEGIN:VEVENT
UID:8957
DTSTAMP:20260420T151627
DTSTART:20191115T000000
DTEND:20201114T000000
SUMMARY:Prop de 2.000 sesrovirencs practiquen esport en els clubs locals
LOCATION:
METHOD:PUBLISH
X-WR-CALNAME:sesrovires@diba.cat
X-WR-TIMEZONE:Europe/Madrid
DESCRIPTION:Un total de 1.965 persones fan activitat física en les entitats i clubs esportius de Sant Esteve Sesrovires, segons dades recopilades per l’Àrea d’Esports. Aquest dada indica que el 25% del sesrovirencs fa esport al municipi.  Les disciplines esportives més practicades són el futbol, l’handbol, el taekwondo i la natació.

URI:https://www.sesrovires.cat/actualitat/noticies/prop-de-2000-sesrovirencs-practiquen-esport-en-els-clubs-locals.html
CLASS:PUBLIC
END:VEVENT
END:VCALENDAR
