BEGIN:VCALENDAR
VERSION:2.0
CALSCALE:GREGORIAN
PRODID:-//Diputació de Barcelona//DibaCMS//EN
BEGIN:VEVENT
UID:8958
DTSTAMP:20260420T120021
DTSTART:20191115T120000
DTEND:20201114T000000
SUMMARY:La nova junta del FC Sant Esteve aposta pel futbol femení
LOCATION:
METHOD:PUBLISH
X-WR-CALNAME:sesrovires@diba.cat
X-WR-TIMEZONE:Europe/Madrid
DESCRIPTION:El Futbol Club Sant Esteve ha renovat la seva junta i ha triat Jordi Llebaria com a nou president de l’entitat. Un dels objectius principals de la nova directiva és apostar pel futbol femení. El club ha format aquest any un equip femení infantil-cadet que està oberta a la incorporació de noves jugadores.

URI:https://www.sesrovires.cat/actualitat/noticies/la-nova-junta-del-fc-sant-esteve-aposta-pel-futbol-femeni.html
CLASS:PUBLIC
END:VEVENT
END:VCALENDAR
