BEGIN:VCALENDAR
VERSION:2.0
CALSCALE:GREGORIAN
PRODID:-//Diputació de Barcelona//DibaCMS//EN
BEGIN:VEVENT
UID:8959
DTSTAMP:20260421T133747
DTSTART:20191119T080000
DTEND:20201114T000000
SUMMARY:El Cor Jove de l’Orfeó Català torna a Sant Esteve Sesrovires
LOCATION:
METHOD:PUBLISH
X-WR-CALNAME:sesrovires@diba.cat
X-WR-TIMEZONE:Europe/Madrid
DESCRIPTION:Després del gran èxit de públic de l’any passat, la prestigiosa formació musical del Cor Jove de l’Orfeó Català torna actuar a Sant Esteve Sesrovires. El proper 23 de novembre el Cor Jove cantarà a l’Església Parroquial sota la batuta del seu director, el sesrovirenc Esteve Nabona. Les entrades ja estan a la venda. El concert està organitzat per la Coral Sant Esteve.

URI:https://www.sesrovires.cat/actualitat/noticies/el-cor-jove-de-lorfeo-catala-torna-a-sant-esteve-sesrovires.html
CLASS:PUBLIC
END:VEVENT
END:VCALENDAR
