BEGIN:VCALENDAR
VERSION:2.0
CALSCALE:GREGORIAN
PRODID:-//Diputació de Barcelona//DibaCMS//EN
BEGIN:VEVENT
UID:8960
DTSTAMP:20260421T163303
DTSTART:20191120T080000
DTEND:20201114T000000
SUMMARY:Ca n’Estella Market torna amb gastronomia, shopping, música i entreteniment
LOCATION:
METHOD:PUBLISH
X-WR-CALNAME:sesrovires@diba.cat
X-WR-TIMEZONE:Europe/Madrid
DESCRIPTION:La masia de  Ca n’Estella torna a acollir aquest any el Ca n’Estella Market, una iniciativa que aposta per la gastronomia, el shopping, la música i l’entreteniment per a tots els públics. La 5a edició del Ca n’Estellà Market tindrà lloc els dies 23 i 24 de novembre. L’entrada és lliure.

URI:https://www.sesrovires.cat/actualitat/noticies/ca-nestella-market-torna-amb-gastronomia-shopping-musica-i-entreteniment.html
CLASS:PUBLIC
END:VEVENT
END:VCALENDAR
