BEGIN:VCALENDAR
VERSION:2.0
CALSCALE:GREGORIAN
PRODID:-//Diputació de Barcelona//DibaCMS//EN
BEGIN:VEVENT
UID:8961
DTSTAMP:20260420T102635
DTSTART:20191116T080000
DTEND:20201114T000000
SUMMARY:L’Ajuntament renova el conveni del projecte Vincles fins al curs 2022-2023
LOCATION:
METHOD:PUBLISH
X-WR-CALNAME:sesrovires@diba.cat
X-WR-TIMEZONE:Europe/Madrid
DESCRIPTION:El Departament d’Ensenyament i l’Ajuntament de Sant Esteve han signat el nou acord de col·laboració que dona continuïtat al projecte Vincles fins al curs 2022-2023. Vincles és un projecte de diversificació curricular destinat als alumnes del 2n cicle d’ESO. En aquesta edició hi participen vuit alumnes que realitzen una part de les hores lectives en un cinc dels centres de treball col·laboradors.

URI:https://www.sesrovires.cat/actualitat/noticies/lajuntament-renova-el-conveni-del-projecte-vincles-fins-al-curs-2022-2023.html
CLASS:PUBLIC
END:VEVENT
END:VCALENDAR
