BEGIN:VCALENDAR
VERSION:2.0
CALSCALE:GREGORIAN
PRODID:-//Diputació de Barcelona//DibaCMS//EN
BEGIN:VEVENT
UID:8963
DTSTAMP:20260421T115407
DTSTART:20191118T130000
DTEND:20201117T000000
SUMMARY:La Policia Local incorpora tres agents interins
LOCATION:
METHOD:PUBLISH
X-WR-CALNAME:sesrovires@diba.cat
X-WR-TIMEZONE:Europe/Madrid
DESCRIPTION:En els últims dies s’han incorporat a la Policia Local de Sant Esteve tres agents interins que substitueixen les tres darreres baixes que tenia el cos per diversos motius. Les noves incorporacions van superar les proves i van aconseguir les puntuacions més altes en la convocatòria d’interinatge que va realitzar l’Ajuntament.

URI:https://www.sesrovires.cat/actualitat/noticies/la-policia-local-incorpora-tres-agents-interins.html
CLASS:PUBLIC
END:VEVENT
END:VCALENDAR
