BEGIN:VCALENDAR
VERSION:2.0
CALSCALE:GREGORIAN
PRODID:-//Diputació de Barcelona//DibaCMS//EN
BEGIN:VEVENT
UID:8967
DTSTAMP:20260420T184724
DTSTART:20191123T091500
DTEND:20191123T091500
SUMMARY:HANDBOL ALEVÍ MASCULÍ-B
LOCATION:Carrer Marta Mata s/n 08635 Sant Esteve Sesrovires
METHOD:PUBLISH
X-WR-CALNAME:sesrovires@diba.cat
X-WR-TIMEZONE:Europe/Madrid
DESCRIPTION:Sant Esteve - Esplugues

Pavelló Poliesportiu

URI:https://www.sesrovires.cat/actualitat/agenda-esportiva/8967-handbol-alevi-masculi-b.html
CLASS:PUBLIC
END:VEVENT
END:VCALENDAR
