BEGIN:VCALENDAR
VERSION:2.0
CALSCALE:GREGORIAN
PRODID:-//Diputació de Barcelona//DibaCMS//EN
BEGIN:VEVENT
UID:8983
DTSTAMP:20260420T120054
DTSTART:20191124T110000
DTEND:20191124T110000
SUMMARY:PÀDEL SÈNIOR MASCULÍ-D
LOCATION:Carrer Josep Fusalba, s/n 08635 Sant Esteve Sesrovires
METHOD:PUBLISH
X-WR-CALNAME:sesrovires@diba.cat
X-WR-TIMEZONE:Europe/Madrid
DESCRIPTION:Sant Esteve - Piera

Pavelló Poliesportiu

URI:https://www.sesrovires.cat/actualitat/agenda-esportiva/8983-padel-senior-masculi-d.html
CLASS:PUBLIC
END:VEVENT
END:VCALENDAR
