BEGIN:VCALENDAR
VERSION:2.0
CALSCALE:GREGORIAN
PRODID:-//Diputació de Barcelona//DibaCMS//EN
BEGIN:VEVENT
UID:8987
DTSTAMP:20260421T105131
DTSTART:20191119T190000
DTEND:20201118T000000
SUMMARY:Detectat i aïllat un focus de legionel•la
LOCATION:
METHOD:PUBLISH
X-WR-CALNAME:sesrovires@diba.cat
X-WR-TIMEZONE:Europe/Madrid
DESCRIPTION:L’Ajuntament ha detectat en un control rutinari un focus de la bactèria de legionel·la a les dutxes de l’escola La Roureda. S’ha tancat l’accés a la zona de vestidors que ha quedat aïllada i s’han seguit les indicacions dels facultatius de salut. Tècnics municipals treballen en el sanejament dels conductes afectats. Fins al moment no s’ha detectat cap cas. 

URI:https://www.sesrovires.cat/actualitat/noticies/detectat-i-aillat-un-focus-de-legionella.html
CLASS:PUBLIC
END:VEVENT
END:VCALENDAR
