BEGIN:VCALENDAR
VERSION:2.0
CALSCALE:GREGORIAN
PRODID:-//Diputació de Barcelona//DibaCMS//EN
BEGIN:VEVENT
UID:8989
DTSTAMP:20260421T121254
DTSTART:20191121T000000
DTEND:20201120T000000
SUMMARY:Campanya de recollida d’aliments, fins al 5 de desembre
LOCATION:
METHOD:PUBLISH
X-WR-CALNAME:sesrovires@diba.cat
X-WR-TIMEZONE:Europe/Madrid
DESCRIPTION:El Banc d’Aliments Parroquial  posa en marxa la campanya de recollida d’aliments que cada any impulsa coincidint amb la proximitat de les festes nadalenques i de la iniciativa del Gran Recapte que té lloc a tot Catalunya. La campanya es desenvoluparà del 22 de novembre fins al 5 de desembre.

URI:https://www.sesrovires.cat/actualitat/noticies/campanya-de-recollida-daliments-fins-al-5-de-desembre.html
CLASS:PUBLIC
END:VEVENT
END:VCALENDAR
