BEGIN:VCALENDAR
VERSION:2.0
CALSCALE:GREGORIAN
PRODID:-//Diputació de Barcelona//DibaCMS//EN
BEGIN:VEVENT
UID:8992
DTSTAMP:20260420T102536
DTSTART:20191122T143000
DTEND:20201121T000000
SUMMARY:La Policia Local intensifica els controls de vigilància
LOCATION:
METHOD:PUBLISH
X-WR-CALNAME:sesrovires@diba.cat
X-WR-TIMEZONE:Europe/Madrid
DESCRIPTION:Efectius de la Policia Local estan intensificant els controls de vigilància en diversos punts del municipi davant l’increment de robatoris que s’han produït a diversos municipis de la zona nord. Alguns d’aquests controls són conjunts amb Abrera o Mossos d’Esquadra.

URI:https://www.sesrovires.cat/actualitat/noticies/la-policia-local-intensifica-els-controls-de-vigilancia.html
CLASS:PUBLIC
END:VEVENT
END:VCALENDAR
