BEGIN:VCALENDAR
VERSION:2.0
CALSCALE:GREGORIAN
PRODID:-//Diputació de Barcelona//DibaCMS//EN
BEGIN:VEVENT
UID:8998
DTSTAMP:20260420T165001
DTSTART:20191214T103000
DTEND:20191214T103000
SUMMARY:FIRA DE NADAL
LOCATION:Plaça del Doctor Tarrés 08635 Sant Esteve Sesrovires
METHOD:PUBLISH
X-WR-CALNAME:sesrovires@diba.cat
X-WR-TIMEZONE:Europe/Madrid
DESCRIPTION:Objectes de regal, artesania, ornamentació nadalenca, productes tradicionals, etc. De 10.30h a 20.00h.
Plaça Dr. Tarrés

URI:https://www.sesrovires.cat/actualitat/agenda-cultural/8998-fira-de-nadal.html
CLASS:PUBLIC
END:VEVENT
END:VCALENDAR
