BEGIN:VCALENDAR
VERSION:2.0
CALSCALE:GREGORIAN
PRODID:-//Diputació de Barcelona//DibaCMS//EN
BEGIN:VEVENT
UID:9021
DTSTAMP:20260420T150002
DTSTART:20191201T104500
DTEND:20191201T104500
SUMMARY:VOLEIBOL JUVENIL FEMENÍ
LOCATION:Carrer Marta Mata s/n 08635 Sant Esteve Sesrovires
METHOD:PUBLISH
X-WR-CALNAME:sesrovires@diba.cat
X-WR-TIMEZONE:Europe/Madrid
DESCRIPTION:Sant Esteve - Tarragona

Pavelló Poliesportiu

URI:https://www.sesrovires.cat/actualitat/agenda-esportiva/9021-voleibol-juvenil-femeni.html
CLASS:PUBLIC
END:VEVENT
END:VCALENDAR
