BEGIN:VCALENDAR
VERSION:2.0
CALSCALE:GREGORIAN
PRODID:-//Diputació de Barcelona//DibaCMS//EN
BEGIN:VEVENT
UID:9044
DTSTAMP:20260420T171436
DTSTART:20191127T150000
DTEND:20201126T000000
SUMMARY:Tecnologia led per il·luminar l'exterior de l’església 
LOCATION:
METHOD:PUBLISH
X-WR-CALNAME:sesrovires@diba.cat
X-WR-TIMEZONE:Europe/Madrid
DESCRIPTION:Avui han començat els treballs per instal·lar els nous focus leds que il·luminaran l’exterior de l’edifici de l’església parroquial. El nou sistema es posarà en marxa coincidint amb l’encesa de l’enllumenat nadalenc, el dia 3 de desembre.

URI:https://www.sesrovires.cat/actualitat/noticies/tecnologia-led-per-illuminar-lexterior-de-lesglesia-.html
CLASS:PUBLIC
END:VEVENT
END:VCALENDAR
