BEGIN:VCALENDAR
VERSION:2.0
CALSCALE:GREGORIAN
PRODID:-//Diputació de Barcelona//DibaCMS//EN
BEGIN:VEVENT
UID:9109
DTSTAMP:20260420T150229
DTSTART:20191212T163000
DTEND:20201211T000000
SUMMARY:Ses Dansa col·labora amb la Marató de TV3
LOCATION:
METHOD:PUBLISH
X-WR-CALNAME:sesrovires@diba.cat
X-WR-TIMEZONE:Europe/Madrid
DESCRIPTION:Ses Dansa torna a col·laborar un any més amb la Marató de TV3, que enguany està dedicada a les malalties minoritàries. L’escola de dansa destinarà la recaptació de la Mostra de Dansa de Nadal, que se celebra diumenge al Pavelló Poliesportiu, a aquesta causa solidària.

URI:https://www.sesrovires.cat/actualitat/noticies/ses-dansa-collabora-amb-la-marato-de-tv3.html
CLASS:PUBLIC
END:VEVENT
END:VCALENDAR
