BEGIN:VCALENDAR
VERSION:2.0
CALSCALE:GREGORIAN
PRODID:-//Diputació de Barcelona//DibaCMS//EN
BEGIN:VEVENT
UID:9365
DTSTAMP:20260421T115529
DTSTART:20200213T150000
DTEND:20210212T000000
SUMMARY:Seguiment dels projectes d’obres en carrers de Vallserrat
LOCATION:
METHOD:PUBLISH
X-WR-CALNAME:sesrovires@diba.cat
X-WR-TIMEZONE:Europe/Madrid
DESCRIPTION:Aquest migdia s’han realitzat diverses visites tècniques per fer el seguiment de projectes d’obres que s’han d’executar properament, primer al carrer Carrilet i després Ramon Llull, així com les recentment acabades de Mercè Rodoreda. En les properes setmanes està previst que s’adjudiquin les obres del carrer Carrilet per a la construcció d’un mur d’escullera a la zona afectada per una esllavissada de terres.

URI:https://www.sesrovires.cat/actualitat/noticies/seguiment-dels-projectes-dobres-en-carrers-de-vallserrat.html
CLASS:PUBLIC
END:VEVENT
END:VCALENDAR
