BEGIN:VCALENDAR
VERSION:2.0
CALSCALE:GREGORIAN
PRODID:-//Diputació de Barcelona//DibaCMS//EN
BEGIN:VEVENT
UID:9527
DTSTAMP:20260424T064149
DTSTART:20200311T000000
DTEND:20210311T000000
SUMMARY:Mesures de prevenció davant el Coronavirus
LOCATION:
METHOD:PUBLISH
X-WR-CALNAME:sesrovires@diba.cat
X-WR-TIMEZONE:Europe/Madrid
DESCRIPTION:L’Ajuntament de Sant Esteve ha decidit adoptar un seguit de mesures preventives pel Coronavirus, tenint en compte les indicacions de la Generalitat. Queden suspesos o ajornats els esdeveniments previstos pels propers 15 dies i l’activitat esportiva es realitzarà a porta tancada. Com a protecció al col·lectiu més vulnerable de la gent gran, es tanca el Casal de la Gent Gran i es mantenen les restriccions d’accés a Can Serra. Aquestes mesures estan subjectes a l’evolució de la situació i en qualsevol moment poden ser modificades o ampliades.

URI:https://www.sesrovires.cat/actualitat/noticies/mesures-de-prevencio-davant-el-coronavirus.html
CLASS:PUBLIC
END:VEVENT
END:VCALENDAR
