BEGIN:VCALENDAR
VERSION:2.0
CALSCALE:GREGORIAN
PRODID:-//Diputació de Barcelona//DibaCMS//EN
BEGIN:VEVENT
UID:9553
DTSTAMP:20260424T093150
DTSTART:20200325T170000
DTEND:20210325T000000
SUMMARY:El web Especial Coronavirus amplia continguts d’interès per a la ciutadania
LOCATION:
METHOD:PUBLISH
X-WR-CALNAME:sesrovires@diba.cat
X-WR-TIMEZONE:Europe/Madrid
DESCRIPTION:Quins comerços reparteixen a domicili? Quan obre la farmàcia? Com fer tràmits amb l’Ajuntament? L’espai web Especial Coronavirus dona resposta a aquestes preguntes i a altres dubtes sobre horaris, serveis, comerços, normativa i informació relacionada amb l’actual situació d’excepcionalitat.

URI:https://www.sesrovires.cat/actualitat/noticies/el-web-especial-coronavirus-amplia-continguts-dinteres-per-a-la-ciutadania.html
CLASS:PUBLIC
END:VEVENT
END:VCALENDAR
