BEGIN:VCALENDAR
VERSION:2.0
CALSCALE:GREGORIAN
PRODID:-//Diputació de Barcelona//DibaCMS//EN
BEGIN:VEVENT
UID:9563
DTSTAMP:20260424T144418
DTSTART:20200401T170000
DTEND:20210401T000000
SUMMARY:Can Serra habilita el centre de dia com a zona d’infermeria
LOCATION:
METHOD:PUBLISH
X-WR-CALNAME:sesrovires@diba.cat
X-WR-TIMEZONE:Europe/Madrid
DESCRIPTION:La residència Can Serra ha habilitat el centre de dia com a infermeria hospital, amb la instal·lació d’11 llits per tal d’atendre els usuaris més necessitats. Aquesta reorganització de l’espai permetrà oferir-los una millor atenció. La direcció ha traslladat a les famílies aquesta informació així com la situació del centre en una comunicació que des d’ara és diària.

URI:https://www.sesrovires.cat/actualitat/noticies/can-serra-habilita-el-centre-de-dia-com-a-zona-dinfermeria.html
CLASS:PUBLIC
END:VEVENT
END:VCALENDAR
