BEGIN:VCALENDAR
VERSION:2.0
CALSCALE:GREGORIAN
PRODID:-//Diputació de Barcelona//DibaCMS//EN
BEGIN:VEVENT
UID:9566
DTSTAMP:20260424T092254
DTSTART:20200404T220000
DTEND:20210404T000000
SUMMARY:La residència Can Serra aïlla una planta del centre per casos positius
LOCATION:
METHOD:PUBLISH
X-WR-CALNAME:sesrovires@diba.cat
X-WR-TIMEZONE:Europe/Madrid
DESCRIPTION:Aquesta tarda s'han conegut els resultats dels 30 testos que el CatSalut, seguint criteris mèdics, va realitzar a residents de Can Serra. Els resultats ja han estat comunicats a les famílies. Els anàlisis han donat 22 positius, per la qual cosa s'està avaluant de nou la situació i preparant mesures per fer-hi front, ente elles, l’aïllament d’una planta.

URI:https://www.sesrovires.cat/actualitat/noticies/la-residencia-can-serra-ailla-una-planta-del-centre-per-casos-positius.html
CLASS:PUBLIC
END:VEVENT
END:VCALENDAR
