BEGIN:VCALENDAR
VERSION:2.0
CALSCALE:GREGORIAN
PRODID:-//Diputació de Barcelona//DibaCMS//EN
BEGIN:VEVENT
UID:9577
DTSTAMP:20260424T094319
DTSTART:20200411T163500
DTEND:20210411T000000
SUMMARY:L’Ajuntament de Sant Esteve activa un llibre de condol virtual
LOCATION:
METHOD:PUBLISH
X-WR-CALNAME:sesrovires@diba.cat
X-WR-TIMEZONE:Europe/Madrid
DESCRIPTION:L'Ajuntament posa a disposició de la ciutadania un espai web per tal que tothom qui ho desitgi pugui deixar un missatge de condol per les persones que ens han deixat en les darreres setmanes. En aquest llibre de condol virtual també es publica la relació de les persones empadronades que han mort des de la declaració d’estat d’alarma el passat 14 de març, independentment de la causa de la defunció.

URI:https://www.sesrovires.cat/actualitat/noticies/lajuntament-de-sant-esteve-activa-un-llibre-de-condol-virtual.html
CLASS:PUBLIC
END:VEVENT
END:VCALENDAR
