BEGIN:VCALENDAR
VERSION:2.0
CALSCALE:GREGORIAN
PRODID:-//Diputació de Barcelona//DibaCMS//EN
BEGIN:VEVENT
UID:9594
DTSTAMP:20260424T105154
DTSTART:20200428T160000
DTEND:20210428T000000
SUMMARY:Can Serra tanca l‘hospital de campanya i fa una segona desinfecció
LOCATION:
METHOD:PUBLISH
X-WR-CALNAME:sesrovires@diba.cat
X-WR-TIMEZONE:Europe/Madrid
DESCRIPTION:Aquesta passada nit s’ha realitzat una segona neteja i desinfecció de l’interior de la residència Can Serra en el marc del Pla de Contingència del Coronavirus. S’ha actuat en espais comuns i serveis i s'ha fet en horari nocturn per no alterar-ne l’activitat. La situació al centre s’ha estabilitzat i s’ha procedit a tancar l’hospital de campanya que s’havia instal·lat al centre de dia. Des del passat dia 22 no s’ha produït cap defunció.

URI:https://www.sesrovires.cat/actualitat/noticies/can-serra-tanca-lhospital-de-campanya-i-fa-una-segona-desinfeccio.html
CLASS:PUBLIC
END:VEVENT
END:VCALENDAR
