BEGIN:VCALENDAR
VERSION:2.0
CALSCALE:GREGORIAN
PRODID:-//Diputació de Barcelona//DibaCMS//EN
BEGIN:VEVENT
UID:9598
DTSTAMP:20260424T105616
DTSTART:20200504T110000
DTEND:20210504T000000
SUMMARY:Promoció Econòmica facilita un nou funcionament de la Borsa de Treball 
LOCATION:
METHOD:PUBLISH
X-WR-CALNAME:sesrovires@diba.cat
X-WR-TIMEZONE:Europe/Madrid
DESCRIPTION:L’Àrea de Promoció Econòmica ha habilitat temporalment nous procediments per facilitar qualsevol gestió amb el servei de la Borsa de Treball, mentre no es reprenguin les entrevistes ocupacionals personalitzades. La gestió del servei, tant per a usuaris i usuàries com per a empreses, es pot fer a través de correu electrònic o per telèfon.

URI:https://www.sesrovires.cat/actualitat/noticies/promocio-economica-facilita-un-nou-funcionament-de-la-borsa-de-treball-.html
CLASS:PUBLIC
END:VEVENT
END:VCALENDAR
