BEGIN:VCALENDAR
VERSION:2.0
CALSCALE:GREGORIAN
PRODID:-//Diputació de Barcelona//DibaCMS//EN
BEGIN:VEVENT
UID:9605
DTSTAMP:20260424T125316
DTSTART:20200507T130000
DTEND:20210507T000000
SUMMARY:Can Serra recupera activitats de dinamització
LOCATION:
METHOD:PUBLISH
X-WR-CALNAME:sesrovires@diba.cat
X-WR-TIMEZONE:Europe/Madrid
DESCRIPTION:Amb l’objectiu de crear estímuls positius en els residents de Can Serra, el centre està reactivant la programació d'activitats i tallers de dinamització. Es tracta d’anar recuperant certa normalitat després de l’estabilització de la situació al centre.  En els darrers 15 dies no s’ha produït cap defunció per Covid-19

URI:https://www.sesrovires.cat/actualitat/noticies/can-serra-recupera-activitats-de-dinamitzacio.html
CLASS:PUBLIC
END:VEVENT
END:VCALENDAR
