BEGIN:VCALENDAR
VERSION:2.0
CALSCALE:GREGORIAN
PRODID:-//Diputació de Barcelona//DibaCMS//EN
BEGIN:VEVENT
UID:9638
DTSTAMP:20260424T140302
DTSTART:20200521T100000
DTEND:20210521T000000
SUMMARY:Comença l’ús obligatori de les mascaretes
LOCATION:
METHOD:PUBLISH
X-WR-CALNAME:sesrovires@diba.cat
X-WR-TIMEZONE:Europe/Madrid
DESCRIPTION:A partir d'avui és obligatori l’ús de mascareta des dels 6 anys, en espais públics, oberts o tancats, sempre que no es pugui garantir la distància de seguretat de 2 metres. En queden excloses les persones amb dificultats respiratòries o amb contraindicacions per motius de salut o discapacitat. No és obligatòria quan sigui incompatible amb l'activitat que es realitzi, com fer esport, menjar o beure, però sempre que es garanteixi la distància interpersonal.

URI:https://www.sesrovires.cat/actualitat/noticies/comenca-lus-obligatori-de-les-mascaretes.html
CLASS:PUBLIC
END:VEVENT
END:VCALENDAR
