BEGIN:VCALENDAR
VERSION:2.0
CALSCALE:GREGORIAN
PRODID:-//Diputació de Barcelona//DibaCMS//EN
BEGIN:VEVENT
UID:9640
DTSTAMP:20260424T125231
DTSTART:20200528T080000
DTEND:20210521T000000
SUMMARY:Oberta la convocatòria d’ajuts per a infants i joves que fan esport
LOCATION:
METHOD:PUBLISH
X-WR-CALNAME:sesrovires@diba.cat
X-WR-TIMEZONE:Europe/Madrid
DESCRIPTION:A partir de l’1 de juny, les famílies poden sol·licitar un ajut per aquells infants i joves que durant l’any 2020 s’hagin inscrit en algun programa esportiu. La subvenció pretén facilitar que les famílies amb menys recursos econòmics puguin apuntar els seus fills/es en activitats esportives. Per aquest motiu, per rebre l’ajut cal complir amb determinats requisits de renda.

URI:https://www.sesrovires.cat/actualitat/noticies/oberta-la-convocatoria-dajuts-per-a-infants-i-joves-que-fan-esport.html
CLASS:PUBLIC
END:VEVENT
END:VCALENDAR
