BEGIN:VCALENDAR
VERSION:2.0
CALSCALE:GREGORIAN
PRODID:-//Diputació de Barcelona//DibaCMS//EN
BEGIN:VEVENT
UID:9641
DTSTAMP:20260424T162848
DTSTART:20200524T100000
DTEND:20210522T000000
SUMMARY:Sant Esteve entra dilluns a la fase 1
LOCATION:
METHOD:PUBLISH
X-WR-CALNAME:sesrovires@diba.cat
X-WR-TIMEZONE:Europe/Madrid
DESCRIPTION:Sant Esteve Sesrovires passa demà dilluns a la fase 1 del Pla de desescalada. En aquesta nova etapa es podran fer trobades de familiars i amics de fins a 10 persones, l’obertura de les terrasses dels bars i restaurants, i els desplaçaments dins de la mateixa regió sanitària. Es permet que tota la unitat familiar surti a passejar plegada i la pràctica esportiva no professional en grups de fins a 10 persones. Si no es produeix cap canvi normatiu, es mantenen les franges horàries.

URI:https://www.sesrovires.cat/actualitat/noticies/sant-esteve-entra-dilluns-a-la-fase-1.html
CLASS:PUBLIC
END:VEVENT
END:VCALENDAR
