BEGIN:VCALENDAR
VERSION:2.0
CALSCALE:GREGORIAN
PRODID:-//Diputació de Barcelona//DibaCMS//EN
BEGIN:VEVENT
UID:9653
DTSTAMP:20260424T125158
DTSTART:20200530T200000
DTEND:20210530T000000
SUMMARY:Ciutadans entra al govern municipal de Sant Esteve Sesrovires
LOCATION:
METHOD:PUBLISH
X-WR-CALNAME:sesrovires@diba.cat
X-WR-TIMEZONE:Europe/Madrid
DESCRIPTION:Els grups municipals de PSC i Ciutadans han formalitzat avui un pacte de govern amb la voluntat de contribuir a “l’estabilitat, el bon govern i la seguretat”. El portaveu de la formació taronja a l’Ajuntament de Sant Esteve, Antonio González, assumirà les àrees d’Hisenda i de Noves Tecnologies, i la segona tinença d’alcaldia.

URI:https://www.sesrovires.cat/actualitat/noticies-sobre-el-ple-municipal/ciutadans-entra-al-govern-municipal-de-sant-esteve-sesrovires.html
CLASS:PUBLIC
END:VEVENT
END:VCALENDAR
