BEGIN:VCALENDAR
VERSION:2.0
CALSCALE:GREGORIAN
PRODID:-//Diputació de Barcelona//DibaCMS//EN
BEGIN:VEVENT
UID:9654
DTSTAMP:20260424T125042
DTSTART:20200531T103000
DTEND:20210531T000000
SUMMARY:Els Serveis Socials Municipals es traslladen al carrer Gaudí 
LOCATION:
METHOD:PUBLISH
X-WR-CALNAME:sesrovires@diba.cat
X-WR-TIMEZONE:Europe/Madrid
DESCRIPTION:A partir de dilluns 1 de juny, els Serveis Socials Municipals prestaran l’atenció a la ciutadania a les noves dependències del carrer Gaudí, 5, que ocupava l’Aula Municipal de Formació. El trasllat es produeix en un moment de demanda creixent de casos socials derivats de la crisi de la COVID-19 i a unes instal·lacions àmplies que permeten complir amb els requeriments de seguretat i prevenció.

URI:https://www.sesrovires.cat/actualitat/noticies/els-serveis-socials-municipals-es-traslladen-al-carrer-gaudi-.html
CLASS:PUBLIC
END:VEVENT
END:VCALENDAR
