BEGIN:VCALENDAR
VERSION:2.0
CALSCALE:GREGORIAN
PRODID:-//Diputació de Barcelona//DibaCMS//EN
BEGIN:VEVENT
UID:9656
DTSTAMP:20260424T125142
DTSTART:20200601T133000
DTEND:20210601T000000
SUMMARY:La campanya extraordinària del Banc d’Aliments recull uns 1.500 quilos de productes
LOCATION:
METHOD:PUBLISH
X-WR-CALNAME:sesrovires@diba.cat
X-WR-TIMEZONE:Europe/Madrid
DESCRIPTION:En una nova mostra de solidaritat, els sesrovirencs i les sesrovirenques han participat activament en la recollida extraordinària pel Banc d’Aliments Parroquial que ha tingut lloc aquest passat cap de setmana. S’han recollit un total de 1.474 kgs. d’aliments bàsics, com pasta, arròs, conserves i llet, i també bolquers.

URI:https://www.sesrovires.cat/actualitat/noticies/la-campanya-extraordinaria-del-banc-daliments-recull-uns-1500-quilos-de-productes.html
CLASS:PUBLIC
END:VEVENT
END:VCALENDAR
