BEGIN:VCALENDAR
VERSION:2.0
CALSCALE:GREGORIAN
PRODID:-//Diputació de Barcelona//DibaCMS//EN
BEGIN:VEVENT
UID:9659
DTSTAMP:20260424T125214
DTSTART:20200602T150000
DTEND:20210602T000000
SUMMARY:La zona blava gratuïta reprèn el funcionament habitual amb l’ús del disc
LOCATION:
METHOD:PUBLISH
X-WR-CALNAME:sesrovires@diba.cat
X-WR-TIMEZONE:Europe/Madrid
DESCRIPTION:Amb la reobertura dels establiments i el retorn a certa normalitat en l’activitat comercial, la zona blava gratuïta de l’avinguda Montserrat torna a funcionar. Es tracta d’afavorir la rotació de l’estacionament en horari d’obertura dels comerços mitjançant el sistema del disc-rellotge. Durant el mes de juny, les persones que no disposin del disc poden recollir-lo a la Policia Local.

URI:https://www.sesrovires.cat/actualitat/noticies/la-zona-blava-gratuita-repren-el-funcionament-habitual-amb-lus-del-disc.html
CLASS:PUBLIC
END:VEVENT
END:VCALENDAR
