BEGIN:VCALENDAR
VERSION:2.0
CALSCALE:GREGORIAN
PRODID:-//Diputació de Barcelona//DibaCMS//EN
BEGIN:VEVENT
UID:9673
DTSTAMP:20260424T160125
DTSTART:20200609T210000
DTEND:20210609T000000
SUMMARY:Es reactiva la renovació de DNI a les comissaries amb cita prèvia  
LOCATION:
METHOD:PUBLISH
X-WR-CALNAME:sesrovires@diba.cat
X-WR-TIMEZONE:Europe/Madrid
DESCRIPTION:La Policia Nacional ha reactivat l’expedició del carnet d’identitat de manera presencial a les comissaries. Es requereix cita prèvia que pot sol·licitar-se per internet. En aquests moments, el servei que la unitat mòbil prestava a l’Ajuntament no té data de represa. El DNI permet realitzar tràmits telemàtics amb les Administracions Públiques, tant catalanes com espanyoles.

URI:https://www.sesrovires.cat/actualitat/noticies/es-reactiva-la-renovacio-de-dni-a-les-comissaries-amb-cita-previa-.html
CLASS:PUBLIC
END:VEVENT
END:VCALENDAR
