BEGIN:VCALENDAR
VERSION:2.0
CALSCALE:GREGORIAN
PRODID:-//Diputació de Barcelona//DibaCMS//EN
BEGIN:VEVENT
UID:9692
DTSTAMP:20260424T143607
DTSTART:20200622T150000
DTEND:20210622T000000
SUMMARY:El mercat de dimarts reprèn tota l’activitat comercial
LOCATION:
METHOD:PUBLISH
X-WR-CALNAME:sesrovires@diba.cat
X-WR-TIMEZONE:Europe/Madrid
DESCRIPTION:Les parades de productes tèxtils tornaran a estar presents al mercat setmanal de dimarts a partir de demà. D’aquesta manera es repren tota l’activitat comercial després que el passat 2 de juny s’instal·lessin les parades d’alimentació. El recinte del mercat ocuparà el mateix emplaçament però ampliat per Pau Costas i plaça de la Vila.

URI:https://www.sesrovires.cat/actualitat/noticies/el-mercat-de-dimarts-repren-tota-lactivitat-comercial.html
CLASS:PUBLIC
END:VEVENT
END:VCALENDAR
