BEGIN:VCALENDAR
VERSION:2.0
CALSCALE:GREGORIAN
PRODID:-//Diputació de Barcelona//DibaCMS//EN
BEGIN:VEVENT
UID:9770
DTSTAMP:20260421T194953
DTSTART:20200728T133000
DTEND:20210728T000000
SUMMARY:Millores en la normativa sobre volums disconformes i elements com pèrgoles i barbacoes
LOCATION:
METHOD:PUBLISH
X-WR-CALNAME:sesrovires@diba.cat
X-WR-TIMEZONE:Europe/Madrid
DESCRIPTION:L’Ajuntament ha iniciat la tramitació per millorar la regulació urbanística sobre els anomenats volums disconformes i els elements auxiliars dels habitatges com són pèrgoles, porxos, piscines i barbacoes. El termini per formular al·legacions, reclamacions i/o suggeriments a la proposta inicial finalitza el 28 de setembre.

URI:https://www.sesrovires.cat/actualitat/noticies-sobre-el-ple-municipal/millores-en-la-normativa-sobre-volums-disconformes-i-elements-com-pergoles-i-barbacoes.html
CLASS:PUBLIC
END:VEVENT
END:VCALENDAR
